BEGIN:VCALENDAR
VERSION:2.0
PRODID:-//ACPME.AC.UK - ECPv5.4.0.2//NONSGML v1.0//EN
CALSCALE:GREGORIAN
METHOD:PUBLISH
X-WR-CALNAME:ACPME.AC.UK
X-ORIGINAL-URL:https://www.acpme.ac.uk
X-WR-CALDESC:Events for ACPME.AC.UK
BEGIN:VTIMEZONE
TZID:UTC
BEGIN:STANDARD
TZOFFSETFROM:+0000
TZOFFSETTO:+0000
TZNAME:UTC
DTSTART:20230101T000000
END:STANDARD
END:VTIMEZONE
BEGIN:VEVENT
DTSTART;VALUE=DATE:20230604
DTEND;VALUE=DATE:20230608
DTSTAMP:20260422T091941
CREATED:20220930T092817Z
LAST-MODIFIED:20230808T093731Z
UID:4371-1685836800-1686182399@www.acpme.ac.uk
SUMMARY:ACPME Annual Conference\, Chesford Grange\, Warwickshire 4–7 June 2023
DESCRIPTION: \n\n\n\nWhile ACPME teams are of different shapes and sizes\, all ACPME members strive for common goals. These are encapsulated in the 2023 Annual Conference theme: ‘Delivering Excellence: Adding Value’.  \n\nThe #ACPMEFamily aim to deliver excellence in a myriad of ways. Whether it’s designing and producing impactful creative campaigns for their institutions\, offering teaching & learning support to colleagues\, providing materials for students or working with external customers\, the shared goal is always to deliver services to the highest possible standard. That might mean engaging photography\, captivating video or hard-hitting designs. It may also mean razor-sharp print – from posters and brochures to large format graphics – precisely finished and delivered/installed on time. It will always mean offering the best possible customer experience and value for money.   \n\n \nEmbedded as small cogs in large institutions\, the #ACPMEFamily add value to teaching and learning\, to research\, and to tackling global issues. We know our colleagues and our students\, we are conveniently located beside them on campus – ready to help\, saving road miles and briefed to align with their needs and core values. Examples of adding value include implementing institutions’ brands\, advising on copyright\, working towards shared sustainability targets\, working with estates and security teams\, providing central storefronts for everything from copier paper to branded goods … the list goes on.\n \nAt Chesford Grange in 2023\, we’ll be focussing on the increasingly key topic of sustainability\, sharing ideas and best practice with workshops and member presentations. Conference will be packed with more of the sessions you have told us you like and you have requested to help you and your staff in ‘Delivering Excellence’ and ‘Adding Value’. \n \nAs always\, we’ll be celebrating your excellence and your added value with the 2023 ACPME Creative + Print Awards. Start thinking about what projects you could showcase to promote the fantastic services you offer.\n\n\n \nBook online now. \n\n\n			 \n			 \n				\n				\n			 \n				\n				\n				\n				\n			 \n				\n				\n				\n				CONFERENCE FEES
URL:https://www.acpme.ac.uk/index.php/event/acpme-annual-conference-chesford-4-7-june-2023/
LOCATION:Chesford Grange\, Warwickshire\, United Kingdom
ATTACH;FMTTYPE=image/jpeg:https://www.acpme.ac.uk/wp-content/uploads/2022/09/DEAV-purple-web-header.jpg
ORGANIZER;CN="ACPME":MAILTO:admin@acpme.ac.uk
END:VEVENT
END:VCALENDAR